BEGIN:VCALENDAR
VERSION:2.0
PRODID:-//Friends of the Forest Preserves - ECPv6.15.20//NONSGML v1.0//EN
CALSCALE:GREGORIAN
METHOD:PUBLISH
X-ORIGINAL-URL:https://fotfp.org
X-WR-CALDESC:Events for Friends of the Forest Preserves
REFRESH-INTERVAL;VALUE=DURATION:PT1H
X-Robots-Tag:noindex
X-PUBLISHED-TTL:PT1H
BEGIN:VTIMEZONE
TZID:America/Chicago
BEGIN:DAYLIGHT
TZOFFSETFROM:-0600
TZOFFSETTO:-0500
TZNAME:CDT
DTSTART:20250309T080000
END:DAYLIGHT
BEGIN:STANDARD
TZOFFSETFROM:-0500
TZOFFSETTO:-0600
TZNAME:CST
DTSTART:20251102T070000
END:STANDARD
BEGIN:DAYLIGHT
TZOFFSETFROM:-0600
TZOFFSETTO:-0500
TZNAME:CDT
DTSTART:20260308T080000
END:DAYLIGHT
BEGIN:STANDARD
TZOFFSETFROM:-0500
TZOFFSETTO:-0600
TZNAME:CST
DTSTART:20261101T070000
END:STANDARD
BEGIN:DAYLIGHT
TZOFFSETFROM:-0600
TZOFFSETTO:-0500
TZNAME:CDT
DTSTART:20270314T080000
END:DAYLIGHT
BEGIN:STANDARD
TZOFFSETFROM:-0500
TZOFFSETTO:-0600
TZNAME:CST
DTSTART:20271107T070000
END:STANDARD
END:VTIMEZONE
BEGIN:VEVENT
DTSTART;TZID=America/Chicago:20260805T153000
DTEND;TZID=America/Chicago:20260805T173000
DTSTAMP:20260424T062152
CREATED:20260108T174037Z
LAST-MODIFIED:20260108T174038Z
UID:10000493-1785943800-1785951000@fotfp.org
SUMMARY:Seeds & Sunset
DESCRIPTION:Location- Spring Creek Longmeadow  \n\n\n\nMeeting Location-  152 W Dundee Rd\, Barrington \n\n\n\nSummary of Event/Workday- Set against the stunning backdrop of Longmeadow\, this beginner-friendly outing invites you to connect with nature\, community\, and conservation. \n\n\n\nYou’ll get hands-on with native plant restoration by learning to identify prairie species and collect their seeds. Vital work that helps restore and protect the health of our local ecosystems. No experience is necessary\, we’ll provide tools\, guidance\, and good company. \n\n\n\nContact Information- Please reach out to Isabella Stocke isabella@fotfp.org with any questions!
URL:https://fotfp.org/event/seeds-sunset/
LOCATION:Spring Creek Longmeadow\, 152 W Dundee Rd\, Barrington\, Illinois\, United States
ATTACH;FMTTYPE=image/jpeg:https://fotfp.org/wp-content/uploads/2026/01/IMG_3644-2-scaled.jpg
END:VEVENT
BEGIN:VEVENT
DTSTART;TZID=America/Chicago:20260812T153000
DTEND;TZID=America/Chicago:20260812T173000
DTSTAMP:20260424T062152
CREATED:20260108T174156Z
LAST-MODIFIED:20260108T174906Z
UID:10000494-1786548600-1786555800@fotfp.org
SUMMARY:Seeds & Sunset
DESCRIPTION:Location- Spring Creek Galloping Hill \n\n\n\nMeeting Location-  Penny Road Pond\, Barrington Hills \n\n\n\nSummary of Event/Workday- Set against the stunning backdrop of Galloping Hill\, this beginner-friendly outing invites you to connect with nature\, community\, and conservation. \n\n\n\nYou’ll get hands-on with native plant restoration by learning to identify prairie species and collect their seeds. Vital work that helps restore and protect the health of our local ecosystems. No experience is necessary\, we’ll provide tools\, guidance\, and good company. \n\n\n\nContact Information- Please reach out to Isabella Stocke isabella@fotfp.org with any questions!
URL:https://fotfp.org/event/seeds-sunset-2/
LOCATION:Penny Road Pond\, 42°05'53.9"N 88°12'26.2"W\, Barrington HIlls\, Illinois\, United States
ATTACH;FMTTYPE=image/jpeg:https://fotfp.org/wp-content/uploads/2026/01/IMG_3644-2-scaled.jpg
END:VEVENT
BEGIN:VEVENT
DTSTART;TZID=America/Chicago:20260819T153000
DTEND;TZID=America/Chicago:20260819T173000
DTSTAMP:20260424T062152
CREATED:20260108T174237Z
LAST-MODIFIED:20260108T174238Z
UID:10000495-1787153400-1787160600@fotfp.org
SUMMARY:Seeds & Sunset
DESCRIPTION:Location- Spring Creek Longmeadow  \n\n\n\nMeeting Location-  152 W Dundee Rd\, Barrington \n\n\n\nSummary of Event/Workday- Set against the stunning backdrop of Longmeadow\, this beginner-friendly outing invites you to connect with nature\, community\, and conservation. \n\n\n\nYou’ll get hands-on with native plant restoration by learning to identify prairie species and collect their seeds. Vital work that helps restore and protect the health of our local ecosystems. No experience is necessary\, we’ll provide tools\, guidance\, and good company. \n\n\n\nContact Information- Please reach out to Isabella Stocke isabella@fotfp.org with any questions!
URL:https://fotfp.org/event/seeds-sunset-3/
LOCATION:Spring Creek Longmeadow\, 152 W Dundee Rd\, Barrington\, Illinois\, United States
ATTACH;FMTTYPE=image/jpeg:https://fotfp.org/wp-content/uploads/2026/01/IMG_3644-2-scaled.jpg
END:VEVENT
BEGIN:VEVENT
DTSTART;TZID=America/Chicago:20260820T100000
DTEND;TZID=America/Chicago:20260820T120000
DTSTAMP:20260424T062152
CREATED:20251120T200725Z
LAST-MODIFIED:20260226T155105Z
UID:10000388-1787220000-1787227200@fotfp.org
SUMMARY:Homeschool Hangout at Eggers Grove
DESCRIPTION:Come hang out at Eggers Grove for a fun homeschool meet-up! Every third Thursday of the month from 10am-12pm \n\n\n\nAll ages and families are invited to this free event at Eggers Grove. Whether you homeschool\, unschool\, or just want to hangout with other families\, come for a monthly nature walk and other nature based activities.
URL:https://fotfp.org/event/homeschool-hangout-at-eggers-grove-9/2026-08-20/
LOCATION:Homeschool Hangout at Eggers Grove\, 11251-11249 South Avenue B\, Chicago\, Illinois\, 60617\, United States
CATEGORIES:Recreation
ATTACH;FMTTYPE=image/jpeg:https://fotfp.org/wp-content/uploads/2025/08/Homeschool-Hangout.jpeg
END:VEVENT
BEGIN:VEVENT
DTSTART;TZID=America/Chicago:20260826T153000
DTEND;TZID=America/Chicago:20260826T173000
DTSTAMP:20260424T062152
CREATED:20260108T174303Z
LAST-MODIFIED:20260108T174852Z
UID:10000496-1787758200-1787765400@fotfp.org
SUMMARY:Seeds & Sunset
DESCRIPTION:Location- Spring Creek Galloping Hill \n\n\n\nMeeting Location-  Penny Road Pond\, Barrington Hills \n\n\n\nSummary of Event/Workday- Set against the stunning backdrop of Galloping Hill\, this beginner-friendly outing invites you to connect with nature\, community\, and conservation. \n\n\n\nYou’ll get hands-on with native plant restoration by learning to identify prairie species and collect their seeds. Vital work that helps restore and protect the health of our local ecosystems. No experience is necessary\, we’ll provide tools\, guidance\, and good company. \n\n\n\nContact Information- Please reach out to Isabella Stocke isabella@fotfp.org with any questions!
URL:https://fotfp.org/event/seeds-sunset-4/
LOCATION:Penny Road Pond\, 42°05'53.9"N 88°12'26.2"W\, Barrington HIlls\, Illinois\, United States
ATTACH;FMTTYPE=image/jpeg:https://fotfp.org/wp-content/uploads/2026/01/IMG_3644-2-scaled.jpg
END:VEVENT
END:VCALENDAR