BEGIN:VCALENDAR
VERSION:2.0
PRODID:-//Friends of the Forest Preserves - ECPv6.15.17.1//NONSGML v1.0//EN
CALSCALE:GREGORIAN
METHOD:PUBLISH
X-ORIGINAL-URL:https://fotfp.org
X-WR-CALDESC:Events for Friends of the Forest Preserves
REFRESH-INTERVAL;VALUE=DURATION:PT1H
X-Robots-Tag:noindex
X-PUBLISHED-TTL:PT1H
BEGIN:VTIMEZONE
TZID:America/Chicago
BEGIN:DAYLIGHT
TZOFFSETFROM:-0600
TZOFFSETTO:-0500
TZNAME:CDT
DTSTART:20250309T080000
END:DAYLIGHT
BEGIN:STANDARD
TZOFFSETFROM:-0500
TZOFFSETTO:-0600
TZNAME:CST
DTSTART:20251102T070000
END:STANDARD
BEGIN:DAYLIGHT
TZOFFSETFROM:-0600
TZOFFSETTO:-0500
TZNAME:CDT
DTSTART:20260308T080000
END:DAYLIGHT
BEGIN:STANDARD
TZOFFSETFROM:-0500
TZOFFSETTO:-0600
TZNAME:CST
DTSTART:20261101T070000
END:STANDARD
BEGIN:DAYLIGHT
TZOFFSETFROM:-0600
TZOFFSETTO:-0500
TZNAME:CDT
DTSTART:20270314T080000
END:DAYLIGHT
BEGIN:STANDARD
TZOFFSETFROM:-0500
TZOFFSETTO:-0600
TZNAME:CST
DTSTART:20271107T070000
END:STANDARD
END:VTIMEZONE
BEGIN:VEVENT
DTSTART;TZID=America/Chicago:20260705T100000
DTEND;TZID=America/Chicago:20260705T130000
DTSTAMP:20260420T071002
CREATED:20260319T160052Z
LAST-MODIFIED:20260319T160052Z
UID:10000534-1783245600-1783256400@fotfp.org
SUMMARY:Bunker Hill North Flatwoods Volunteer Workdays
DESCRIPTION:Join the North Branch Restoration Project to restore this oak woodland to its former beauty! This 76-acre site depends on a community of volunteers to remove invasive species\, spread native seed\, and much more. Large pin oaks are a unique feature of this preserve\, which is also home to some beautiful spring ephemerals. \n\n\n\nVisit The North Branch Restoration Project on Facebook! \n\n\n\nYouth under age 18 must be accompanied by a legal parent/guardian or attend with a chaperoned organized youth group (school\, scouts\, church). \n\n\n\nDirections: Enter the preserve from Harts Road\, just west of Touhy and Caldwell and look for the volunteer sign. The approximate address is 6600 W Harts Road in Niles\, IL. \n\n\n\nContact: Mike Andrews at mike61950@aol.com.
URL:https://fotfp.org/event/bunker-hill-north-flatwoods-volunteer-workdays-21/
CATEGORIES:Events,Plants and Animals,Restoration,Volunteer
ATTACH;FMTTYPE=image/jpeg:https://fotfp.org/wp-content/uploads/2025/03/04272024-Bunker-North-5A.jpg
END:VEVENT
BEGIN:VEVENT
DTSTART;TZID=America/Chicago:20260707T100000
DTEND;TZID=America/Chicago:20260707T120000
DTSTAMP:20260420T071002
CREATED:20260108T173639Z
LAST-MODIFIED:20260108T173640Z
UID:10000491-1783418400-1783425600@fotfp.org
SUMMARY:Stewardship Volunteer Days - Healy Savanna
DESCRIPTION:Meeting Location- Beverly Lake Trail\, Hoffman Estates \n\n\n\nSummary of Event/Workday- Join Us for a Garlic Mustard Pull & Spring Seed Collecting Adventure! Help protect our woodlands by removing invasive garlic mustard\, giving native plants the space they need to thrive. As we work\, we’ll also keep an eye out for neat spring ephemeral plants.. We’ll collect these seeds to support future restoration efforts. No experience necessary\, all tools and guidance will be provided. Come enjoy the spring beauty of the preserve while making a meaningful impact! \n\n\n\nContact Information-  Please reach out to Isabella Stocke isabella@fotfp.org with any questions!
URL:https://fotfp.org/event/stewardship-volunteer-days-healy-savanna-13/
LOCATION:Beverly Lake Trail\, Beverly Lake Trail\, Hoffman Estates\, Illinois\, 60179\, United States
ATTACH;FMTTYPE=image/jpeg:https://fotfp.org/wp-content/uploads/2026/01/FD1FD89E-52A1-42A2-8265-002C997779A6_1_105_c.jpeg
END:VEVENT
BEGIN:VEVENT
DTSTART;TZID=America/Chicago:20260711T100000
DTEND;TZID=America/Chicago:20260711T130000
DTSTAMP:20260420T071002
CREATED:20260319T160727Z
LAST-MODIFIED:20260319T160727Z
UID:10000544-1783764000-1783774800@fotfp.org
SUMMARY:St. Paul Woods Volunteer Workday
DESCRIPTION:St. Paul Woods is an inviting oak-hickory woodland situated east of the North Branch of the Chicago River. Like many of our native woodlands\, it needs management to clear invasive brush and trees to restore the original structure. With increased sunlight\, the wildflowers and grasses will once again add to the beauty of the woods. Join North Branch Restoration Project volunteers as we remove buckthorn and other weedy species\, protecting our native ecosystems. \n\n\n\nVisit The North Branch Restoration Project on Facebook! \n\n\n\nYouth under age 18 must be accompanied by a legal parent/guardian or attend with a chaperoned organized youth group (school\, scouts\, church). \n\n\n\nDirections: Enter the driveway north off 6500 Oakton Ave\, across from Natchez Ave in Morton Grove. Look for the Volunteer sign in the parking area. \n\n\n\nFor questions\, please contact Mike Andrews at mike61950@aol.com.
URL:https://fotfp.org/event/st-paul-woods-volunteer-workday-18/
CATEGORIES:Events,Plants and Animals,Restoration,Volunteer
ATTACH;FMTTYPE=image/jpeg:https://fotfp.org/wp-content/uploads/2025/03/07272024-St-Paul-1-scaled.jpg
END:VEVENT
BEGIN:VEVENT
DTSTART;TZID=America/Chicago:20260716T100000
DTEND;TZID=America/Chicago:20260716T120000
DTSTAMP:20260420T071002
CREATED:20251120T200725Z
LAST-MODIFIED:20260226T155105Z
UID:10000387-1784196000-1784203200@fotfp.org
SUMMARY:Homeschool Hangout at Eggers Grove
DESCRIPTION:Come hang out at Eggers Grove for a fun homeschool meet-up! Every third Thursday of the month from 10am-12pm \n\n\n\nAll ages and families are invited to this free event at Eggers Grove. Whether you homeschool\, unschool\, or just want to hangout with other families\, come for a monthly nature walk and other nature based activities.
URL:https://fotfp.org/event/homeschool-hangout-at-eggers-grove-9/2026-07-16/
LOCATION:Homeschool Hangout at Eggers Grove\, 11251-11249 South Avenue B\, Chicago\, Illinois\, 60617\, United States
CATEGORIES:Recreation
ATTACH;FMTTYPE=image/jpeg:https://fotfp.org/wp-content/uploads/2025/08/Homeschool-Hangout.jpeg
END:VEVENT
BEGIN:VEVENT
DTSTART;TZID=America/Chicago:20260718T100000
DTEND;TZID=America/Chicago:20260718T130000
DTSTAMP:20260420T071002
CREATED:20260319T160412Z
LAST-MODIFIED:20260319T160413Z
UID:10000539-1784368800-1784379600@fotfp.org
SUMMARY:Oxbow Prairie Volunteer Workday
DESCRIPTION:Formed by an old loop in the river’s course\, lies the Oxbow Prairie. \n\n\n\nThis old oxbow in the Chicago River’s North Branch is a combination of low\, wet prairie soils and slightly higher mesic prairie soils. A small open savanna lies on what was once the east bank of the river. The mesic prairie had an abundance of Eurasian grasses\, Queen Anne’s lace and tall goldenrod. With management\, the more conservative prairie plants such as northern dropseed\, stiff goldenrod\, golden alexanders and big bluestem grass are returning. \n\n\n\nThe wetter areas are richest in native plants\, including cup plant\, ironweed\, tall meadow-rue\, water parsnip\, cordgrass\, Virginia rye\, and numerous kinds of sedges. \n\n\n\nA small oak savanna on the old east bank has swamp white and bur oaks\, in the words of landscape architect and restorationist Tom Vanderpoel\, “a wonderful micro oak savanna.” \n\n\n\nJoin North Branch Restoration Project volunteers and enjoy a different view here! \n\n\n\nYouth under age 18 must be accompanied by a legal parent/guardian or attend with a chaperoned organized youth group (school\, scouts\, church). \n\n\n\nVisit The North Branch Restoration Project on Facebook! \n\n\n\nDirections: From the south\, enter the drive off of Caldwell Avenue across from Tonty; proceed ~1/4 mile\, staying to the right at the split. From the north\, enter the drive off of Harts Road and proceed ~3/4 mile south. Look for the Volunteer signs at the meeting spot. \n\n\n\nContact: Mike Andrews at mike61950@aol.com.
URL:https://fotfp.org/event/oxbow-prairie-volunteer-workday-20/
CATEGORIES:Events,Plants and Animals,Restoration,Volunteer
ATTACH;FMTTYPE=image/jpeg:https://fotfp.org/wp-content/uploads/2025/03/08202023-Oxbow-4-1-scaled.jpg
END:VEVENT
BEGIN:VEVENT
DTSTART;TZID=America/Chicago:20260721T100000
DTEND;TZID=America/Chicago:20260721T120000
DTSTAMP:20260420T071002
CREATED:20260108T173707Z
LAST-MODIFIED:20260108T173708Z
UID:10000492-1784628000-1784635200@fotfp.org
SUMMARY:Stewardship Volunteer Days - Healy Savanna
DESCRIPTION:Meeting Location- Beverly Lake Trail\, Hoffman Estates \n\n\n\nSummary of Event/Workday- Join Us for a Garlic Mustard Pull & Spring Seed Collecting Adventure! Help protect our woodlands by removing invasive garlic mustard\, giving native plants the space they need to thrive. As we work\, we’ll also keep an eye out for neat spring ephemeral plants.. We’ll collect these seeds to support future restoration efforts. No experience necessary\, all tools and guidance will be provided. Come enjoy the spring beauty of the preserve while making a meaningful impact! \n\n\n\nContact Information-  Please reach out to Isabella Stocke isabella@fotfp.org with any questions!
URL:https://fotfp.org/event/stewardship-volunteer-days-healy-savanna-14/
LOCATION:Beverly Lake Trail\, Beverly Lake Trail\, Hoffman Estates\, Illinois\, 60179\, United States
ATTACH;FMTTYPE=image/jpeg:https://fotfp.org/wp-content/uploads/2026/01/FD1FD89E-52A1-42A2-8265-002C997779A6_1_105_c.jpeg
END:VEVENT
BEGIN:VEVENT
DTSTART;TZID=America/Chicago:20260726T100000
DTEND;TZID=America/Chicago:20260726T130000
DTSTAMP:20260420T071002
CREATED:20260319T161054Z
LAST-MODIFIED:20260319T161055Z
UID:10000550-1785060000-1785070800@fotfp.org
SUMMARY:Miami Woods and Prairie Volunteer Workday
DESCRIPTION:The Miami Woods Forest Preserve covers 112 acres stretching along the west side of the North Branch of the Chicago River from Oakton Street northward to Dempster Street.  It is bounded on the west side by Caldwell Avenue\, Waukegan Road and development at the intersection of Waukegan Road and Dempster Street. The land on the east side of the river forms the Saint Paul Woods Forest Preserve. \n\n\n\nMiami Woods and Prairie contain important remnants of the original grasslands and woodlands that formed the natural heritage of the greater Chicago area. Miami Woods and Prairie (except the turf grass picnic areas) is to achieve restoration to the highest ecological condition possible using a minimum amount of management intervention. Our approach is to restore natural processes so that the area will become as self-sustaining as possible. \n\n\n\nVisit The North Branch Restoration Project on Facebook! \n\n\n\nYouth under age 18 must be accompanied by a legal parent/guardian or attend with a chaperoned organized youth group (school\, scouts\, church). \n\n\n\n\n\n\n\nDirections: Located on the east side of Caldwell\, two blocks north of Oakton.  Meet in the parking lot for Miami Woods\, look for the Volunteer sign. \n\n\n\nTo volunteer or for more information contact Nick Conde at Miami Woods.
URL:https://fotfp.org/event/miami-woods-and-prairie-volunteer-workday-22/
CATEGORIES:Events,Plants and Animals,Restoration,Volunteer
ATTACH;FMTTYPE=image/jpeg:https://fotfp.org/wp-content/uploads/2025/03/07212024-Miami-3.jpg
END:VEVENT
END:VCALENDAR