BEGIN:VCALENDAR
VERSION:2.0
PRODID:-//Friends of the Forest Preserves - ECPv6.15.20//NONSGML v1.0//EN
CALSCALE:GREGORIAN
METHOD:PUBLISH
X-WR-CALNAME:Friends of the Forest Preserves
X-ORIGINAL-URL:https://fotfp.org
X-WR-CALDESC:Events for Friends of the Forest Preserves
REFRESH-INTERVAL;VALUE=DURATION:PT1H
X-Robots-Tag:noindex
X-PUBLISHED-TTL:PT1H
BEGIN:VTIMEZONE
TZID:America/Chicago
BEGIN:DAYLIGHT
TZOFFSETFROM:-0600
TZOFFSETTO:-0500
TZNAME:CDT
DTSTART:20250309T080000
END:DAYLIGHT
BEGIN:STANDARD
TZOFFSETFROM:-0500
TZOFFSETTO:-0600
TZNAME:CST
DTSTART:20251102T070000
END:STANDARD
BEGIN:DAYLIGHT
TZOFFSETFROM:-0600
TZOFFSETTO:-0500
TZNAME:CDT
DTSTART:20260308T080000
END:DAYLIGHT
BEGIN:STANDARD
TZOFFSETFROM:-0500
TZOFFSETTO:-0600
TZNAME:CST
DTSTART:20261101T070000
END:STANDARD
BEGIN:DAYLIGHT
TZOFFSETFROM:-0600
TZOFFSETTO:-0500
TZNAME:CDT
DTSTART:20270314T080000
END:DAYLIGHT
BEGIN:STANDARD
TZOFFSETFROM:-0500
TZOFFSETTO:-0600
TZNAME:CST
DTSTART:20271107T070000
END:STANDARD
END:VTIMEZONE
BEGIN:VEVENT
DTSTART;TZID=America/Chicago:20260902T153000
DTEND;TZID=America/Chicago:20260902T173000
DTSTAMP:20260422T055518
CREATED:20260108T174326Z
LAST-MODIFIED:20260108T174327Z
UID:10000497-1788363000-1788370200@fotfp.org
SUMMARY:Seeds & Sunset
DESCRIPTION:Location- Spring Creek Longmeadow  \n\n\n\nMeeting Location-  152 W Dundee Rd\, Barrington \n\n\n\nSummary of Event/Workday- Set against the stunning backdrop of Longmeadow\, this beginner-friendly outing invites you to connect with nature\, community\, and conservation. \n\n\n\nYou’ll get hands-on with native plant restoration by learning to identify prairie species and collect their seeds. Vital work that helps restore and protect the health of our local ecosystems. No experience is necessary\, we’ll provide tools\, guidance\, and good company. \n\n\n\nContact Information- Please reach out to Isabella Stocke isabella@fotfp.org with any questions!
URL:https://fotfp.org/event/seeds-sunset-5/
LOCATION:Spring Creek Longmeadow\, 152 W Dundee Rd\, Barrington\, Illinois\, United States
ATTACH;FMTTYPE=image/jpeg:https://fotfp.org/wp-content/uploads/2026/01/IMG_3644-2-scaled.jpg
END:VEVENT
END:VCALENDAR