BEGIN:VCALENDAR
VERSION:2.0
PRODID:-//Friends of the Forest Preserves - ECPv6.15.17.1//NONSGML v1.0//EN
CALSCALE:GREGORIAN
METHOD:PUBLISH
X-ORIGINAL-URL:https://fotfp.org
X-WR-CALDESC:Events for Friends of the Forest Preserves
REFRESH-INTERVAL;VALUE=DURATION:PT1H
X-Robots-Tag:noindex
X-PUBLISHED-TTL:PT1H
BEGIN:VTIMEZONE
TZID:America/Chicago
BEGIN:DAYLIGHT
TZOFFSETFROM:-0600
TZOFFSETTO:-0500
TZNAME:CDT
DTSTART:20240310T080000
END:DAYLIGHT
BEGIN:STANDARD
TZOFFSETFROM:-0500
TZOFFSETTO:-0600
TZNAME:CST
DTSTART:20241103T070000
END:STANDARD
BEGIN:DAYLIGHT
TZOFFSETFROM:-0600
TZOFFSETTO:-0500
TZNAME:CDT
DTSTART:20250309T080000
END:DAYLIGHT
BEGIN:STANDARD
TZOFFSETFROM:-0500
TZOFFSETTO:-0600
TZNAME:CST
DTSTART:20251102T070000
END:STANDARD
BEGIN:DAYLIGHT
TZOFFSETFROM:-0600
TZOFFSETTO:-0500
TZNAME:CDT
DTSTART:20260308T080000
END:DAYLIGHT
BEGIN:STANDARD
TZOFFSETFROM:-0500
TZOFFSETTO:-0600
TZNAME:CST
DTSTART:20261101T070000
END:STANDARD
END:VTIMEZONE
BEGIN:VEVENT
DTSTART;TZID=America/Chicago:20250621T090000
DTEND;TZID=America/Chicago:20250621T120000
DTSTAMP:20260421T045329
CREATED:20250616T143650Z
LAST-MODIFIED:20250616T144538Z
UID:10000260-1750496400-1750507200@fotfp.org
SUMMARY:Stewardship Volunteer Days: Whistler Woods
DESCRIPTION:Join us at Whistler Woods for our volunteer days! We will be performing a variety of restoration activities in this woodland and prairie-dominant site. Meet at the end of the parking lot.
URL:https://fotfp.org/event/stewardship-volunteer-days-whistler-woods-4/
LOCATION:Whistler Woods\, JC4M+8M5\, Calumet City\, Illinois\, United States
ATTACH;FMTTYPE=image/png:https://fotfp.org/wp-content/uploads/2025/06/image.png
END:VEVENT
BEGIN:VEVENT
DTSTART;TZID=America/Chicago:20250621T120000
DTEND;TZID=America/Chicago:20250621T130000
DTSTAMP:20260421T045329
CREATED:20250513T154036Z
LAST-MODIFIED:20250513T154037Z
UID:10000238-1750507200-1750510800@fotfp.org
SUMMARY:Yoga: Gentle Flow & Mindful Breath
DESCRIPTION:Gentle Flow & Mindful Breath: Unwind and restore balance in this 60-minute\, outdoor\, gentle yoga class\, designed to nurture your body and calm your mind. We’ll begin with a series of slow\, flowing asanas (poses) and integrate deep breathing techniques (pranayama) to cultivate inner peace and release tension. This focus on breathwork will help you connect with your body on a deeper level and create space for relaxation. \n\n\n\nYoga Instructor: Donisha Reed with Wellthy Living
URL:https://fotfp.org/event/yoga-gentle-flow-mindful-breath-2/
LOCATION:Dan Ryan Woods Visitor Center\, P8P9+9X\, Chicago\, Illinois\, 60620\, United States
ATTACH;FMTTYPE=image/jpeg:https://fotfp.org/wp-content/uploads/2025/04/whistler-wellness-2-scaled.jpg
END:VEVENT
END:VCALENDAR