BEGIN:VCALENDAR
VERSION:2.0
PRODID:-//Friends of the Forest Preserves - ECPv6.15.20//NONSGML v1.0//EN
CALSCALE:GREGORIAN
METHOD:PUBLISH
X-WR-CALNAME:Friends of the Forest Preserves
X-ORIGINAL-URL:https://fotfp.org
X-WR-CALDESC:Events for Friends of the Forest Preserves
REFRESH-INTERVAL;VALUE=DURATION:PT1H
X-Robots-Tag:noindex
X-PUBLISHED-TTL:PT1H
BEGIN:VTIMEZONE
TZID:America/Chicago
BEGIN:DAYLIGHT
TZOFFSETFROM:-0600
TZOFFSETTO:-0500
TZNAME:CDT
DTSTART:20240310T080000
END:DAYLIGHT
BEGIN:STANDARD
TZOFFSETFROM:-0500
TZOFFSETTO:-0600
TZNAME:CST
DTSTART:20241103T070000
END:STANDARD
BEGIN:DAYLIGHT
TZOFFSETFROM:-0600
TZOFFSETTO:-0500
TZNAME:CDT
DTSTART:20250309T080000
END:DAYLIGHT
BEGIN:STANDARD
TZOFFSETFROM:-0500
TZOFFSETTO:-0600
TZNAME:CST
DTSTART:20251102T070000
END:STANDARD
BEGIN:DAYLIGHT
TZOFFSETFROM:-0600
TZOFFSETTO:-0500
TZNAME:CDT
DTSTART:20260308T080000
END:DAYLIGHT
BEGIN:STANDARD
TZOFFSETFROM:-0500
TZOFFSETTO:-0600
TZNAME:CST
DTSTART:20261101T070000
END:STANDARD
END:VTIMEZONE
BEGIN:VEVENT
DTSTART;TZID=America/Chicago:20250323T130000
DTEND;TZID=America/Chicago:20250323T150000
DTSTAMP:20260423T051802
CREATED:20250317T194102Z
LAST-MODIFIED:20250317T194103Z
UID:10000136-1742734800-1742742000@fotfp.org
SUMMARY:Stewardship Volunteer Days
DESCRIPTION:Workday where we will remove invasive shrubs with hand tools and place the wood in a brush pile fire. Beginners welcome! \n\n\n\nMeet in Beverly Lake Parking Lot
URL:https://fotfp.org/event/stewardship-volunteer-days/
LOCATION:Spring Creek Healy Savanna\, Beverly Lake\, Hoffman Estates\, Illinois\, 60179\, United States
ATTACH;FMTTYPE=image/png:https://fotfp.org/wp-content/uploads/2025/03/unnamed-4.png
END:VEVENT
END:VCALENDAR