BEGIN:VCALENDAR
VERSION:2.0
PRODID:-//Friends of the Forest Preserves - ECPv6.15.17.1//NONSGML v1.0//EN
CALSCALE:GREGORIAN
METHOD:PUBLISH
X-WR-CALNAME:Friends of the Forest Preserves
X-ORIGINAL-URL:https://fotfp.org
X-WR-CALDESC:Events for Friends of the Forest Preserves
REFRESH-INTERVAL;VALUE=DURATION:PT1H
X-Robots-Tag:noindex
X-PUBLISHED-TTL:PT1H
BEGIN:VTIMEZONE
TZID:America/Chicago
BEGIN:DAYLIGHT
TZOFFSETFROM:-0600
TZOFFSETTO:-0500
TZNAME:CDT
DTSTART:20240310T080000
END:DAYLIGHT
BEGIN:STANDARD
TZOFFSETFROM:-0500
TZOFFSETTO:-0600
TZNAME:CST
DTSTART:20241103T070000
END:STANDARD
BEGIN:DAYLIGHT
TZOFFSETFROM:-0600
TZOFFSETTO:-0500
TZNAME:CDT
DTSTART:20250309T080000
END:DAYLIGHT
BEGIN:STANDARD
TZOFFSETFROM:-0500
TZOFFSETTO:-0600
TZNAME:CST
DTSTART:20251102T070000
END:STANDARD
BEGIN:DAYLIGHT
TZOFFSETFROM:-0600
TZOFFSETTO:-0500
TZNAME:CDT
DTSTART:20260308T080000
END:DAYLIGHT
BEGIN:STANDARD
TZOFFSETFROM:-0500
TZOFFSETTO:-0600
TZNAME:CST
DTSTART:20261101T070000
END:STANDARD
END:VTIMEZONE
BEGIN:VEVENT
DTSTART;TZID=America/Chicago:20250320T100000
DTEND;TZID=America/Chicago:20250320T120000
DTSTAMP:20260421T063430
CREATED:20250129T232739Z
LAST-MODIFIED:20250320T140942Z
UID:10000100-1742464800-1742472000@fotfp.org
SUMMARY:CANCELLED - Homeschool Hangout at Eggers Grove
DESCRIPTION:— CANCELLED DUE TO WEATHER — \n\n\n\nCome hang out at Eggers Grove for a fun homeschool meet-up! \n\n\n\nEvery third Thursday of the month from 10am-12pm until June 19\, 2025
URL:https://fotfp.org/event/homeschool-hangout-at-eggers-grove-2/
ATTACH;FMTTYPE=image/jpeg:https://fotfp.org/wp-content/uploads/2025/01/homeschool-hangout.jpeg
END:VEVENT
BEGIN:VEVENT
DTSTART;TZID=America/Chicago:20250320T100000
DTEND;TZID=America/Chicago:20250320T130000
DTSTAMP:20260421T063430
CREATED:20250313T161749Z
LAST-MODIFIED:20250313T161749Z
UID:10000106-1742464800-1742475600@fotfp.org
SUMMARY:Stewardship Volunteer Days: Dan Ryan Woods
DESCRIPTION:Join us in the abundant woodlands at Dan Ryan Woods to help protect our environment and make a difference locally. No experience required; all tools and supplies will be provided! Meet at the 91st St. entrance.
URL:https://fotfp.org/event/stewardship-volunteer-days-dan-ryan-woods/
LOCATION:Chicago\, IL 60643-1231\, W 91st St & S Hermitage Ave\, Chicago\, IL 60643-1231\, Illinois\, 60643-1231\, United States
ATTACH;FMTTYPE=image/png:https://fotfp.org/wp-content/uploads/2025/03/danryan.png
END:VEVENT
END:VCALENDAR